BEGIN:VCALENDAR
VERSION:2.0
PRODID:-//wp-events-plugin.com//6.4.6.4//EN
BEGIN:VEVENT
UID:2@realestateunionn.com
DTSTART:20250507T123000Z
DTEND:20250507T140000Z
DTSTAMP:20250504T062839Z
URL:https://realestateunionn.com/events/event-workshops-lectures/
SUMMARY:ورشة عمل "مدخل إلى فهم المزادات العقا
 رية"
DESCRIPTION:حمل البروشور\nوصف الحدث:\nينظم اتحا
 د العقاريين بالتعاون مع شركة الانماء الع
 قارية ورشة عمل تحت عنوان "مدخل إلى فهم ال
 مزادات العقارية"\n\nيقدمها:\nالسيد/ خالد عب
 دالواحد الحمادي - مساعد مدير إدارة الأمل
 اك والخدمات العقارية لدى شركة الانماء ال
 عقارية\nالمحاور:\n\n 	مفهوم المزادات العقا
 رية وأهميتها في المرحلة الراهنة\n 	دور ال
 مزادات العقارية في تنشيط السوق العقاري ا
 لكويتي\n 	اشتراطات وكيفية تنظيم مزاد عقار
 ي\n 	مناقشة عامة \n\n&nbsp\;\nملاحظات:\nالمقاعد 
 محدودة والأولوية لأعضاء الاتحاد.\n\nانتهى
  التسجيل لاكتمال العدد:\n2025/5/4\n\n\n
ATTACH;FMTTYPE=image/jpeg:https://realestateunionn.com/wp-content/uploads/
 2025/04/47977b3f-afc9-460f-a539-99c11acfb12b.jpg
CATEGORIES:ورش العمل والمحاضرات
LOCATION:https://maps.app.goo.gl/nvKw7cSKunDXxPHi6
END:VEVENT
END:VCALENDAR