BEGIN:VCALENDAR
VERSION:2.0
PRODID:-//wp-events-plugin.com//6.4.6.4//EN
BEGIN:VEVENT
UID:44@realestateunionn.com
DTSTART:20251117T100000Z
DTEND:20251117T110000Z
DTSTAMP:20251113T074857Z
URL:https://realestateunionn.com/events/%d9%88%d8%b1%d8%b4%d8%a9-%d8%aa%d9
 %88%d8%b9%d9%88%d9%8a%d8%a9%d8%a5%d8%b4%d9%83%d8%a7%d9%84%d8%a7%d8%aa-%d8%
 a7%d9%84%d8%a5%d9%8a%d8%ac%d8%a7%d8%b1-%d9%84%d9%84%d9%82%d8%b3%d8%a7%d8%a
 6%d9%85-%d8%a7/
SUMMARY:ورشة توعوية "إشكالات الإيجار للقسائم
  الصناعية"
DESCRIPTION:وصف الحدث:\nفي إطار حرص الاتحاد على 
 نشر الوعي القانوني وتعزيز الثقافة العقا
 رية المتخصصة لدى المهتمين بالقطاع العقا
 ري، ينظّم اتحاد العقاريين بالتعاون مع مج
 موعة الياقوت والفوزان القانونية YFLG ورشة 
 توعوية تحت عنوان "إشكالات الإيجار للقسائ
 م الصناعية".\n\n&nbsp\;\nيقدمــها:\nالدكتور أنو
 ر الفزيع - شريك ورئيس قسم التقاضي لدى مجم
 وعة الياقوت والفوزان القانونية\n\n&nbsp\;\nال
 هدف من الورشة:\nتهدف هذه الورشة إلى تسليط 
 الضوء على أبرز الإشكالات القانونية المر
 تبطة بالقسائم الصناعية، وبيان الأطر الت
 شريعية والتنظيمية التي تحكمها.\n\n&nbsp\;\nمح
 اور الورشة:\n\n 	ما هو القانون واجب التطبيق
  على القسائم  الصناعية.\n 	هل تعتبر من الم
 ال العام.\n 	ما هو التكيف القانوني للعلاقة
  بين الدول وصاحب القسيمة الصناعية.\n 	هل ي
 ستطيع صاحب القسيمة تأجيرها.\n 	هل تنطبق حا
 لات الإخلاء الواردة في القانون رقم 35 لسن
 ة 1978 في شأن تأجير العقارات على القسائم ال
 صناعية.\n 	هل يجوز رهن القسائم الصناعية.\n 	
 هل يجوز فرز أو دمج القسائم الصناعية.\n 	هل 
 يجوز إدخال القسيمة الصناعية كحصة عينية ف
 ي الشركات التجارية.\n\n&nbsp\;\nملاحظات:\n\n 	ال
 مقاعد محدودة وأولوية التسجيل لأعضاء الا
 تحاد\n\n\n\n\nانتهى التسجيل لاكتمال العدد:\n20
 25/11/13\n\n\n
ATTACH;FMTTYPE=image/jpeg:https://realestateunionn.com/wp-content/uploads/
 2025/11/7f6c6570-dce6-4ee2-83f1-b9899829252f.jpg
CATEGORIES:ورش العمل والمحاضرات
LOCATION:https://maps.app.goo.gl/vyzoqUveyYRoGj6o8
END:VEVENT
END:VCALENDAR