BEGIN:VCALENDAR
VERSION:2.0
PRODID:-//wp-events-plugin.com//6.4.6.4//EN
BEGIN:VEVENT
UID:43@realestateunionn.com
DTSTART;TZID=Asia/Kuwait:20251202T173000
DTEND;TZID=Asia/Kuwait:20251203T210000
DTSTAMP:20251201T111903Z
URL:https://realestateunionn.com/events/%d8%a8%d8%b1%d9%86%d8%a7%d9%85%d8%
 ac-%d8%aa%d8%af%d8%b1%d9%8a%d8%a8%d9%8a-%d9%85%d8%a8%d8%a7%d8%af%d8%a6-%d9
 %88%d8%a3%d8%b3%d8%a7%d8%b3%d9%8a%d8%a7%d8%aa-%d8%b3%d9%88%d9%82-%d8%a7%d9
 %84%d8%b9%d9%82-2/
SUMMARY:برنامج تدريبي "مبادئ وأساسيات سوق ال
 عقارات في الكويت"
DESCRIPTION:حمل البروشور\n&nbsp\;\nوصف الحدث:\nبرنا
 مج تدريبي تحت عنوان "مبادئ وأساسيات سوق ا
 لعقارات في الكويت" برعاية شركة الحسبة ال
 عقارية\n&nbsp\;\nيقدمه:\nالسيد/ أحمد عبداللطي
 ف اللهيب\n\n&nbsp\;\nالهدف من البرنامج:\nيهدف ه
 ذا البرنامج إلى تعريف المشاركين بأساسيا
 ت سوق العقارات الكويتي ومكوناته الرئيسة
 ، مع توضيح الفروق بين فئاته المختلفة، وت
 قديم لمحة تمهيدية عن مجالات العمل العقار
 ي المتنوعة، إلى جانب شرح مبسط لمفاهيم ال
 استثمار والمواصفات والمصطلحات والمخاطر 
 العقارية، بما يمنح المشاركين تصورًا عام
 ا يساعدهم على فهم طبيعة السوق واستيعاب ا
 لمبادئ الأولى للدخول إلى عالم العقار أو 
 الالتحاق بالدورات التخصصية اللاحقة.\n\n&nbs
 p\;\nالفئة المستهدفة:\n\n 	الموظفين الجدد في 
 القطاع العقاري\n 	المستثمرين الراغبين في 
 دخول السوق العقاري\n 	المدراء غير المتخصص
 ين في العقار\n 	الأفراد الراغبين في التعر
 ف على سوق العقارات الكويتي\n 	للباحثين عن 
 فهماً شاملاً وعن أساسيات التعامل في السو
 ق العقاري\n 	أصحاب الأعمال الصغيرة الذين 
 يرغبون في توسيع نشاطهم ليشمل العقارات\n\n&
 nbsp\;\nمحاور البرنامج:\n\n 	المحور الأول : مقد
 مة إلى سوق العقارات الكويتي\n 	المحور الث
 اني : الفئات العقارية وأنواع التملك\n 	الم
 حور الثالث : لمحة عن الصفقات العقارية\n 	ا
 لمحور الرابع : موجز عن: التقييم العقاري –
  المزادات العقارية – التمويل العقاري – 
 البناء – الوساطة العقارية\n 	المحور الخا
 مس : مبادئ الاستثمار في العقار\n 	المحور ا
 لسادس : الفرق بين إجمالي وصافي الدخل ومصا
 ريف العقار ونسبة العائد\n 	المحور السابع :
  العوامل التي تحدد قيمة الإيجارات\n 	المح
 ور الثامن : عقود الإيجار\n 	المحور التاسع :
  المخالفات العقارية\n 	المحور العاشر : الم
 صطلحات والمفاهيم والمميزات التي تؤثر عل
 ى قيمة القسيمة\n\n&nbsp\;\nملاحظات:\n\n 	المقاعد
  محدودة وأولوية التسجيل لأعضاء الإتحاد\n 
 	تطبق الشروط والأحكام\n 	شهادة حضور للمشا
 ركين\n 	آخر موعد للتسجيل: 2025/12/1\n\n\n\n\n[wpforms id
 ="3331"]\nانتهى التسجيل:\n2025/12/01
ATTACH;FMTTYPE=image/jpeg:https://realestateunionn.com/wp-content/uploads/
 2025/10/11a3648c-1e20-4804-963d-21016d3308be.jpg
CATEGORIES:البرامج التدريبية
LOCATION:https://maps.app.goo.gl/oQgwzESkJBtbnAP68
END:VEVENT
BEGIN:VTIMEZONE
TZID:Asia/Kuwait
X-LIC-LOCATION:Asia/Kuwait
BEGIN:STANDARD
DTSTART:20241202T173000
TZOFFSETFROM:+0300
TZOFFSETTO:+0300
TZNAME:+03
END:STANDARD
END:VTIMEZONE
END:VCALENDAR