BEGIN:VCALENDAR
VERSION:2.0
PRODID:-//wp-events-plugin.com//6.4.6.4//EN
BEGIN:VEVENT
UID:45@realestateunionn.com
DTSTART:20260112T100000Z
DTEND:20260112T140000Z
DTSTAMP:20260111T133940Z
URL:https://realestateunionn.com/events/%d8%a8%d8%b1%d9%86%d8%a7%d9%85%d8%
 ac-%d8%aa%d8%af%d8%b1%d9%8a%d8%a8%d9%8a-%d8%a7%d9%84%d8%a7%d8%b3%d8%aa%d8%
 af%d8%a7%d9%85%d8%a9-%d8%a7%d9%84%d8%a7%d8%b3%d8%aa%d8%b1%d8%a7%d8%aa%d9%8
 a%d8%ac%d9%8a/
SUMMARY:برنامج تدريبي "الاستدامة الاستراتيج
 ية وتقارير ESG لقطاع العقارات"
DESCRIPTION:حمل البروشور\n\nوصف الحدث:\nينظم معه
 د اتحاد العقاريين للتدريب الأهلي - الذرا
 ع التدريبي للاتحاد برنامج تدريبي تحت عنو
 ان:\n\n"الاستدامة الاستراتيجية وتقارير ESG 
 لقطاع العقارات"\n\n&nbsp\;\nتقدمــه:\nالسيدة/ ي
 سر المطوع - شريك مؤسس شركة سيدز اكاديمي، 
 مستشار في الESG و استدامة الشركات\n\n&nbsp\;\nا
 لأهداف:\n\n 	فهم الأهمية الاستراتيجية لمما
 رسات الاستدامة ومعايير الحوكمة البيئية 
 والاجتماعية والمؤسسية (ESG) في قطاع العقار
 ات، وتأثيرها على قيمة الأصول، وإدارة الم
 خاطر، والاستدامة طويلة الأجل.\n 	التعرف ع
 لى مشهد أطر ومعايير ESG وتقارير الاستدامة 
 العالمية، وتحديد الأطر الأكثر ملاءمة لق
 طاع العقارات، بما في ذلك GRI، IFRS S1 &amp\; S2، SAS
 B، وTCFD.\n 	تحديد مؤشرات الأداء الرئيسية (KPIs
 ) والمقاييس الجوهرية لـ ESG ذات الصلة بالأ
 صول العقارية، والعمليات التشغيلية، والم
 حافظ الاستثمارية.\n 	تحويل التزامات ESG من 
 مستوى التقارير إلى ممارسات عملية قابلة ل
 لتطبيق ضمن إدارة الأصول، والتشغيل، وإدا
 رة المرافق.\n 	فهم دور ESG في فتح فرص التموي
 ل الأخضر وتحسين الوصول إلى أدوات التمويل
  المستدام والتمويل المرتبط بالأداء الاس
 تدامي.\n 	إعداد خارطة طريق عملية وقابلة لل
 تنفيذ لتطبيق ESG، تتناسب مع حجم المؤسسة ال
 عقارية وطبيعة أصولها والسياق المحلي.\n\n&nb
 sp\;\nالفئة المستهدفة:\n\n 	المطورون العقاري
 ون\n 	مديرو الأصول والمحافظ الاستثمارية\n 
 	المستثمرون العقاريون\n 	الجهات المالية و
 البنوك المهتمة بالتمويل الأخضر\n 	فرق إدا
 رة المرافق (FM)\n 	الاستشاريون والمختصون في
  الاستدامة والعقارات\n\n&nbsp\;\nالمحاور:\n\n 	م
 فاهيم ESG وأهميتها الاستراتيجية لقطاع الع
 قارات\n 	أطر ESG ومشهد تقارير الاستدامة الع
 المية\n 	مؤشرات ESG الرئيسية للأصول والمحا
 فظ العقارية\n 	الدمج التشغيلي: تطبيق ESG في 
 العمليات العقارية اليومية\n 	التمويل الأ
 خضر وفرص الاستثمار المرتبطة بـ ESG\n 	بناء 
 خارطة طريق عملية لتطبيق ESG في المؤسسات ال
 عقارية\n\n&nbsp\;\nملاحظات:\n\n 	المقاعد محدودة 
 وأولوية التسجيل لأعضاء الاتحاد\n 	شهادة ح
 ضور للمشاركين\n 	آخر موعد للتسجيل: 2026/1/11\n\n
 \n\n\n[wpforms id="3331"]\nانتهى التسجيل:\n2025/1/11
ATTACH;FMTTYPE=image/jpeg:https://realestateunionn.com/wp-content/uploads/
 2025/12/da928b14-31b7-49a0-bb88-c5cf949398ba.jpg
CATEGORIES:البرامج التدريبية
LOCATION:https://maps.app.goo.gl/dn9cFBL3JpkhY78W9
END:VEVENT
END:VCALENDAR